BEGIN:VCALENDAR
VERSION:2.0
PRODID:-//European Pain Federation - ECPv6.15.18//NONSGML v1.0//EN
CALSCALE:GREGORIAN
METHOD:PUBLISH
X-WR-CALNAME:European Pain Federation
X-ORIGINAL-URL:https://europeanpainfederation.eu
X-WR-CALDESC:Events for European Pain Federation
REFRESH-INTERVAL;VALUE=DURATION:PT1H
X-Robots-Tag:noindex
X-PUBLISHED-TTL:PT1H
BEGIN:VTIMEZONE
TZID:Europe/Brussels
BEGIN:DAYLIGHT
TZOFFSETFROM:+0100
TZOFFSETTO:+0200
TZNAME:CEST
DTSTART:20200329T010000
END:DAYLIGHT
BEGIN:STANDARD
TZOFFSETFROM:+0200
TZOFFSETTO:+0100
TZNAME:CET
DTSTART:20201025T010000
END:STANDARD
BEGIN:DAYLIGHT
TZOFFSETFROM:+0100
TZOFFSETTO:+0200
TZNAME:CEST
DTSTART:20210328T010000
END:DAYLIGHT
BEGIN:STANDARD
TZOFFSETFROM:+0200
TZOFFSETTO:+0100
TZNAME:CET
DTSTART:20211031T010000
END:STANDARD
BEGIN:DAYLIGHT
TZOFFSETFROM:+0100
TZOFFSETTO:+0200
TZNAME:CEST
DTSTART:20220327T010000
END:DAYLIGHT
BEGIN:STANDARD
TZOFFSETFROM:+0200
TZOFFSETTO:+0100
TZNAME:CET
DTSTART:20221030T010000
END:STANDARD
END:VTIMEZONE
BEGIN:VEVENT
DTSTART;VALUE=DATE:20210831
DTEND;VALUE=DATE:20210904
DTSTAMP:20260424T034644
CREATED:20200918T123910Z
LAST-MODIFIED:20210128T081350Z
UID:6683-1630375200-1630634399@europeanpainfederation.eu
SUMMARY:1st International Conference on Phantom Limb Pain
DESCRIPTION:
URL:https://europeanpainfederation.eu/event/1st-international-conference-on-phantom-limb-pain/
LOCATION:Gothenburg\, Sweden
END:VEVENT
BEGIN:VEVENT
DTSTART;VALUE=DATE:20210901
DTEND;VALUE=DATE:20210907
DTSTAMP:20260424T034644
CREATED:20190821T102158Z
LAST-MODIFIED:20210830T142503Z
UID:3950-1630461600-1630893599@europeanpainfederation.eu
SUMMARY:17th World Congress of Anaesthesiologists
DESCRIPTION:
URL:https://europeanpainfederation.eu/event/17th-world-congress-of-anaesthesiologists-2021/
END:VEVENT
BEGIN:VEVENT
DTSTART;VALUE=DATE:20210902
DTEND;VALUE=DATE:20210905
DTSTAMP:20260424T034644
CREATED:20210816T081213Z
LAST-MODIFIED:20210816T081213Z
UID:10448-1630548000-1630720799@europeanpainfederation.eu
SUMMARY:Hybrid Conference on Ultrasound in Pain Medicine\, Regenerative Medicine & Peripheral Neuromodulation
DESCRIPTION:
URL:https://europeanpainfederation.eu/event/hybrid-conference-on-ultrasound-in-pain-medicine-regenerative-medicine-peripheral-neuromodulation/
END:VEVENT
END:VCALENDAR