BEGIN:VCALENDAR
VERSION:2.0
PRODID:-//European Pain Federation - ECPv6.15.18//NONSGML v1.0//EN
CALSCALE:GREGORIAN
METHOD:PUBLISH
X-WR-CALNAME:European Pain Federation
X-ORIGINAL-URL:https://europeanpainfederation.eu
X-WR-CALDESC:Events for European Pain Federation
REFRESH-INTERVAL;VALUE=DURATION:PT1H
X-Robots-Tag:noindex
X-PUBLISHED-TTL:PT1H
BEGIN:VTIMEZONE
TZID:Europe/Brussels
BEGIN:DAYLIGHT
TZOFFSETFROM:+0100
TZOFFSETTO:+0200
TZNAME:CEST
DTSTART:20210328T010000
END:DAYLIGHT
BEGIN:STANDARD
TZOFFSETFROM:+0200
TZOFFSETTO:+0100
TZNAME:CET
DTSTART:20211031T010000
END:STANDARD
BEGIN:DAYLIGHT
TZOFFSETFROM:+0100
TZOFFSETTO:+0200
TZNAME:CEST
DTSTART:20220327T010000
END:DAYLIGHT
BEGIN:STANDARD
TZOFFSETFROM:+0200
TZOFFSETTO:+0100
TZNAME:CET
DTSTART:20221030T010000
END:STANDARD
BEGIN:DAYLIGHT
TZOFFSETFROM:+0100
TZOFFSETTO:+0200
TZNAME:CEST
DTSTART:20230326T010000
END:DAYLIGHT
BEGIN:STANDARD
TZOFFSETFROM:+0200
TZOFFSETTO:+0100
TZNAME:CET
DTSTART:20231029T010000
END:STANDARD
END:VTIMEZONE
BEGIN:VEVENT
DTSTART;VALUE=DATE:20220422
DTEND;VALUE=DATE:20220424
DTSTAMP:20260425T135030
CREATED:20210816T081955Z
LAST-MODIFIED:20211229T112227Z
UID:10455-1650592800-1650679199@europeanpainfederation.eu
SUMMARY:2nd Evolution of Pulsed Radiofrequency Symposium with Prof Menno Sluijter
DESCRIPTION:
URL:https://europeanpainfederation.eu/event/2nd-evolution-of-pulsed-radiofrequency-symposium-with-prof-menno-sluijter/
LOCATION:Madrid\, Madrid\, Spain
END:VEVENT
END:VCALENDAR