BEGIN:VCALENDAR
VERSION:2.0
PRODID:-//European Pain Federation - ECPv6.15.18//NONSGML v1.0//EN
CALSCALE:GREGORIAN
METHOD:PUBLISH
X-WR-CALNAME:European Pain Federation
X-ORIGINAL-URL:https://europeanpainfederation.eu
X-WR-CALDESC:Events for European Pain Federation
REFRESH-INTERVAL;VALUE=DURATION:PT1H
X-Robots-Tag:noindex
X-PUBLISHED-TTL:PT1H
BEGIN:VTIMEZONE
TZID:Europe/Brussels
BEGIN:DAYLIGHT
TZOFFSETFROM:+0100
TZOFFSETTO:+0200
TZNAME:CEST
DTSTART:20220327T010000
END:DAYLIGHT
BEGIN:STANDARD
TZOFFSETFROM:+0200
TZOFFSETTO:+0100
TZNAME:CET
DTSTART:20221030T010000
END:STANDARD
BEGIN:DAYLIGHT
TZOFFSETFROM:+0100
TZOFFSETTO:+0200
TZNAME:CEST
DTSTART:20230326T010000
END:DAYLIGHT
BEGIN:STANDARD
TZOFFSETFROM:+0200
TZOFFSETTO:+0100
TZNAME:CET
DTSTART:20231029T010000
END:STANDARD
BEGIN:DAYLIGHT
TZOFFSETFROM:+0100
TZOFFSETTO:+0200
TZNAME:CEST
DTSTART:20240331T010000
END:DAYLIGHT
BEGIN:STANDARD
TZOFFSETFROM:+0200
TZOFFSETTO:+0100
TZNAME:CET
DTSTART:20241027T010000
END:STANDARD
END:VTIMEZONE
BEGIN:VEVENT
DTSTART;TZID=Europe/Brussels:20230620T120000
DTEND;TZID=Europe/Brussels:20230620T180000
DTSTAMP:20260421T143629
CREATED:20230620T134346Z
LAST-MODIFIED:20230620T134346Z
UID:62410-1687262400-1687284000@europeanpainfederation.eu
SUMMARY:IASP CRPS SIG Meeting
DESCRIPTION:Book your ticket here (Non-IASP members need to create a free account).  \nRegistration is now open for the satellite meeting of the CRSP SIG at #EFIC2023 in Budapest! Join members of the international research community to discuss “What can we learn from regional and widespread symptoms in CRPS?”. This is especially important since CRPS is classified in the ICD-11 as primary chronic pain. The meeting will take place at the Hungexpo building (same location as #EFIC2023). \nIASP members and non-members are welcome. We look forward to seeing you in September! \n 
URL:https://europeanpainfederation.eu/event/iasp-crps-sig-meeting/
LOCATION:Hungexpo Budapest Congress and Exhibition Centre\, Albertirsai út 10\, 1101 Budapest\, Hungary\, Budapest\, 1101\, Hungary
END:VEVENT
END:VCALENDAR