BEGIN:VCALENDAR
VERSION:2.0
PRODID:-//European Pain Federation - ECPv6.15.18//NONSGML v1.0//EN
CALSCALE:GREGORIAN
METHOD:PUBLISH
X-ORIGINAL-URL:https://europeanpainfederation.eu
X-WR-CALDESC:Events for European Pain Federation
REFRESH-INTERVAL;VALUE=DURATION:PT1H
X-Robots-Tag:noindex
X-PUBLISHED-TTL:PT1H
BEGIN:VTIMEZONE
TZID:Europe/Brussels
BEGIN:DAYLIGHT
TZOFFSETFROM:+0100
TZOFFSETTO:+0200
TZNAME:CEST
DTSTART:20220327T010000
END:DAYLIGHT
BEGIN:STANDARD
TZOFFSETFROM:+0200
TZOFFSETTO:+0100
TZNAME:CET
DTSTART:20221030T010000
END:STANDARD
BEGIN:DAYLIGHT
TZOFFSETFROM:+0100
TZOFFSETTO:+0200
TZNAME:CEST
DTSTART:20230326T010000
END:DAYLIGHT
BEGIN:STANDARD
TZOFFSETFROM:+0200
TZOFFSETTO:+0100
TZNAME:CET
DTSTART:20231029T010000
END:STANDARD
BEGIN:DAYLIGHT
TZOFFSETFROM:+0100
TZOFFSETTO:+0200
TZNAME:CEST
DTSTART:20240331T010000
END:DAYLIGHT
BEGIN:STANDARD
TZOFFSETFROM:+0200
TZOFFSETTO:+0100
TZNAME:CET
DTSTART:20241027T010000
END:STANDARD
END:VTIMEZONE
BEGIN:VEVENT
DTSTART;TZID=Europe/Brussels:20230701T080000
DTEND;TZID=Europe/Brussels:20230704T170000
DTSTAMP:20260421T143924
CREATED:20220921T131634Z
LAST-MODIFIED:20220921T131634Z
UID:51484-1688198400-1688490000@europeanpainfederation.eu
SUMMARY:9th Congress of the European Academy of Neurology
DESCRIPTION:
URL:https://europeanpainfederation.eu/event/9th-congress-of-the-european-academy-of-neurology/
LOCATION:Budapest\, Hungary
END:VEVENT
BEGIN:VEVENT
DTSTART;VALUE=DATE:20230703
DTEND;VALUE=DATE:20230707
DTSTAMP:20260421T143924
CREATED:20221011T113937Z
LAST-MODIFIED:20221011T113937Z
UID:54147-1688342400-1688687999@europeanpainfederation.eu
SUMMARY:18th European Congress of Psychology
DESCRIPTION:
URL:https://europeanpainfederation.eu/event/18th-european-congress-of-psychology/
LOCATION:Brighton
END:VEVENT
END:VCALENDAR