BEGIN:VCALENDAR
VERSION:2.0
PRODID:-//European Pain Federation - ECPv6.15.18//NONSGML v1.0//EN
CALSCALE:GREGORIAN
METHOD:PUBLISH
X-WR-CALNAME:European Pain Federation
X-ORIGINAL-URL:https://europeanpainfederation.eu
X-WR-CALDESC:Events for European Pain Federation
REFRESH-INTERVAL;VALUE=DURATION:PT1H
X-Robots-Tag:noindex
X-PUBLISHED-TTL:PT1H
BEGIN:VTIMEZONE
TZID:Europe/Brussels
BEGIN:DAYLIGHT
TZOFFSETFROM:+0100
TZOFFSETTO:+0200
TZNAME:CEST
DTSTART:20230326T010000
END:DAYLIGHT
BEGIN:STANDARD
TZOFFSETFROM:+0200
TZOFFSETTO:+0100
TZNAME:CET
DTSTART:20231029T010000
END:STANDARD
BEGIN:DAYLIGHT
TZOFFSETFROM:+0100
TZOFFSETTO:+0200
TZNAME:CEST
DTSTART:20240331T010000
END:DAYLIGHT
BEGIN:STANDARD
TZOFFSETFROM:+0200
TZOFFSETTO:+0100
TZNAME:CET
DTSTART:20241027T010000
END:STANDARD
BEGIN:DAYLIGHT
TZOFFSETFROM:+0100
TZOFFSETTO:+0200
TZNAME:CEST
DTSTART:20250330T010000
END:DAYLIGHT
BEGIN:STANDARD
TZOFFSETFROM:+0200
TZOFFSETTO:+0100
TZNAME:CET
DTSTART:20251026T010000
END:STANDARD
END:VTIMEZONE
BEGIN:VEVENT
DTSTART;TZID=Europe/Brussels:20240919T080000
DTEND;TZID=Europe/Brussels:20240920T170000
DTSTAMP:20260421T093521
CREATED:20240624T085000Z
LAST-MODIFIED:20240726T124820Z
UID:70008-1726732800-1726851600@europeanpainfederation.eu
SUMMARY:National Acute Pain Symposium 2024
DESCRIPTION:
URL:https://europeanpainfederation.eu/event/national-acute-pain-symposium-2024/
LOCATION:Warwick Conferences\, Coventry\, United Kingdom
END:VEVENT
BEGIN:VEVENT
DTSTART;TZID=Europe/Brussels:20240919T080000
DTEND;TZID=Europe/Brussels:20240921T170000
DTSTAMP:20260421T093521
CREATED:20231208T081300Z
LAST-MODIFIED:20240606T103024Z
UID:66046-1726732800-1726938000@europeanpainfederation.eu
SUMMARY:47 Congresso Nazionale
DESCRIPTION:
URL:https://europeanpainfederation.eu/event/47-congresso-nazionale/
LOCATION:Bergamo\, Bergamo\, Italy
ATTACH;FMTTYPE=image/jpeg:https://europeanpainfederation.eu/wp-content/uploads/2023/12/47congrAISD_800x400.jpg
END:VEVENT
BEGIN:VEVENT
DTSTART;TZID=Europe/Brussels:20240919T090000
DTEND;TZID=Europe/Brussels:20240920T180000
DTSTAMP:20260421T093521
CREATED:20240726T121419Z
LAST-MODIFIED:20240726T124717Z
UID:70549-1726736400-1726855200@europeanpainfederation.eu
SUMMARY:Leeds Spine Intervention Cadaver Workshop
DESCRIPTION:
URL:https://europeanpainfederation.eu/event/leeds-spine-intervention-cadaver-workshop/
LOCATION:Leeds\, Leeds\, United Kingdom
ATTACH;FMTTYPE=image/jpeg:https://europeanpainfederation.eu/wp-content/uploads/2024/07/leeds-pain-course.jpg
END:VEVENT
END:VCALENDAR