BEGIN:VCALENDAR
VERSION:2.0
PRODID:-//European Pain Federation - ECPv6.15.18//NONSGML v1.0//EN
CALSCALE:GREGORIAN
METHOD:PUBLISH
X-WR-CALNAME:European Pain Federation
X-ORIGINAL-URL:https://europeanpainfederation.eu
X-WR-CALDESC:Events for European Pain Federation
REFRESH-INTERVAL;VALUE=DURATION:PT1H
X-Robots-Tag:noindex
X-PUBLISHED-TTL:PT1H
BEGIN:VTIMEZONE
TZID:Europe/Brussels
BEGIN:DAYLIGHT
TZOFFSETFROM:+0100
TZOFFSETTO:+0200
TZNAME:CEST
DTSTART:20240331T010000
END:DAYLIGHT
BEGIN:STANDARD
TZOFFSETFROM:+0200
TZOFFSETTO:+0100
TZNAME:CET
DTSTART:20241027T010000
END:STANDARD
BEGIN:DAYLIGHT
TZOFFSETFROM:+0100
TZOFFSETTO:+0200
TZNAME:CEST
DTSTART:20250330T010000
END:DAYLIGHT
BEGIN:STANDARD
TZOFFSETFROM:+0200
TZOFFSETTO:+0100
TZNAME:CET
DTSTART:20251026T010000
END:STANDARD
BEGIN:DAYLIGHT
TZOFFSETFROM:+0100
TZOFFSETTO:+0200
TZNAME:CEST
DTSTART:20260329T010000
END:DAYLIGHT
BEGIN:STANDARD
TZOFFSETFROM:+0200
TZOFFSETTO:+0100
TZNAME:CET
DTSTART:20261025T010000
END:STANDARD
END:VTIMEZONE
BEGIN:VEVENT
DTSTART;VALUE=DATE:20251113
DTEND;VALUE=DATE:20251115
DTSTAMP:20260421T115338
CREATED:20250321T092616Z
LAST-MODIFIED:20250321T092616Z
UID:75799-1762992000-1763164799@europeanpainfederation.eu
SUMMARY:Rehab meets Pain meets Rehab Congress
DESCRIPTION:
URL:https://europeanpainfederation.eu/event/rehab-meets-pain-meets-rehab-congress/
LOCATION:Aarau\, Aarau\, Switzerland
ATTACH;FMTTYPE=image/png:https://europeanpainfederation.eu/wp-content/uploads/2025/03/081_022501-SPS-Jahreskongress-2025-Visual-scaled.png
END:VEVENT
BEGIN:VEVENT
DTSTART;VALUE=DATE:20251114
DTEND;VALUE=DATE:20251115
DTSTAMP:20260421T115338
CREATED:20250513T182218Z
LAST-MODIFIED:20250513T182218Z
UID:78906-1763078400-1763164799@europeanpainfederation.eu
SUMMARY:4th Evolution of PRF Symposium
DESCRIPTION:
URL:https://europeanpainfederation.eu/event/4th-evolution-of-prf-symposium/
LOCATION:Nice\, Nice\, France
ATTACH;FMTTYPE=image/jpeg:https://europeanpainfederation.eu/wp-content/uploads/2025/05/AdobeStock_101997393.jpeg
END:VEVENT
END:VCALENDAR