BEGIN:VCALENDAR
VERSION:2.0
PRODID:-//European Pain Federation - ECPv6.15.18//NONSGML v1.0//EN
CALSCALE:GREGORIAN
METHOD:PUBLISH
X-WR-CALNAME:European Pain Federation
X-ORIGINAL-URL:https://europeanpainfederation.eu
X-WR-CALDESC:Events for European Pain Federation
REFRESH-INTERVAL;VALUE=DURATION:PT1H
X-Robots-Tag:noindex
X-PUBLISHED-TTL:PT1H
BEGIN:VTIMEZONE
TZID:Europe/Brussels
BEGIN:DAYLIGHT
TZOFFSETFROM:+0100
TZOFFSETTO:+0200
TZNAME:CEST
DTSTART:20250330T010000
END:DAYLIGHT
BEGIN:STANDARD
TZOFFSETFROM:+0200
TZOFFSETTO:+0100
TZNAME:CET
DTSTART:20251026T010000
END:STANDARD
BEGIN:DAYLIGHT
TZOFFSETFROM:+0100
TZOFFSETTO:+0200
TZNAME:CEST
DTSTART:20260329T010000
END:DAYLIGHT
BEGIN:STANDARD
TZOFFSETFROM:+0200
TZOFFSETTO:+0100
TZNAME:CET
DTSTART:20261025T010000
END:STANDARD
BEGIN:DAYLIGHT
TZOFFSETFROM:+0100
TZOFFSETTO:+0200
TZNAME:CEST
DTSTART:20270328T010000
END:DAYLIGHT
BEGIN:STANDARD
TZOFFSETFROM:+0200
TZOFFSETTO:+0100
TZNAME:CET
DTSTART:20271031T010000
END:STANDARD
END:VTIMEZONE
BEGIN:VEVENT
DTSTART;VALUE=DATE:20261003
DTEND;VALUE=DATE:20261004
DTSTAMP:20260419T143343
CREATED:20260302T090944Z
LAST-MODIFIED:20260302T090944Z
UID:98852-1790985600-1791071999@europeanpainfederation.eu
SUMMARY:II Russian Interdisciplinary Congress: "Back Pain 2026"
DESCRIPTION:
URL:https://europeanpainfederation.eu/event/ii-russian-interdisciplinary-congress-back-pain-2026/
LOCATION:Palmira Art Hotel\, Moscow 4th Magistralnaya Street\, 4/11\, Moscow\, Russian Federation
END:VEVENT
BEGIN:VEVENT
DTSTART;VALUE=DATE:20261008
DTEND;VALUE=DATE:20261011
DTSTAMP:20260419T143343
CREATED:20260202T123912Z
LAST-MODIFIED:20260202T123912Z
UID:96605-1791417600-1791676799@europeanpainfederation.eu
SUMMARY:Dialogues about Pain 2026
DESCRIPTION:
URL:https://europeanpainfederation.eu/event/dialogues-about-pain-2026/
LOCATION:Košice\, Košice\, Slovakia (Slovak Republic)
ATTACH;FMTTYPE=image/png:https://europeanpainfederation.eu/wp-content/uploads/2026/02/303d610bc5fc176f16ac51dfa53740f1c0f14df7.png
END:VEVENT
BEGIN:VEVENT
DTSTART;VALUE=DATE:20261015
DTEND;VALUE=DATE:20261018
DTSTAMP:20260419T143343
CREATED:20260204T094923Z
LAST-MODIFIED:20260204T094923Z
UID:96781-1792022400-1792281599@europeanpainfederation.eu
SUMMARY:6th Croatian Pain Management Congress
DESCRIPTION:
URL:https://europeanpainfederation.eu/event/6th-croatian-pain-management-congress/
LOCATION:Hotel Osijek\, Osijek\, Croatia (Local Name: Hrvatska)
ATTACH;FMTTYPE=image/png:https://europeanpainfederation.eu/wp-content/uploads/2026/02/Simpozij-Osijek-2026.png
END:VEVENT
BEGIN:VEVENT
DTSTART;VALUE=DATE:20261015
DTEND;VALUE=DATE:20261017
DTSTAMP:20260419T143343
CREATED:20260319T125528Z
LAST-MODIFIED:20260409T121746Z
UID:99707-1792022400-1792195199@europeanpainfederation.eu
SUMMARY:IX APED Congress
DESCRIPTION:
URL:https://europeanpainfederation.eu/event/ix-aped-congress/
LOCATION:Tomar\, Tomar\, Portugal
ATTACH;FMTTYPE=image/jpeg:https://europeanpainfederation.eu/wp-content/uploads/2026/03/IX_Congresso_APED2026_STD__Facebook_Cover.jpg
END:VEVENT
BEGIN:VEVENT
DTSTART;VALUE=DATE:20261029
DTEND;VALUE=DATE:20261031
DTSTAMP:20260419T143343
CREATED:20260126T140614Z
LAST-MODIFIED:20260129T081352Z
UID:95523-1793232000-1793404799@europeanpainfederation.eu
SUMMARY:18th Hands-on Interventional Pain Management Cadaver Workshop
DESCRIPTION:
URL:https://europeanpainfederation.eu/event/18th-hands-on-interventional-pain-management-cadaver-workshop/
LOCATION:Postgraduate Education Centre\, City Hospital\, Nottingham\, United Kingdom
ATTACH;FMTTYPE=image/jpeg:https://europeanpainfederation.eu/wp-content/uploads/2026/01/spine_image-birmingham.jpg
END:VEVENT
END:VCALENDAR